BEGIN:VCALENDAR
VERSION:2.0
PRODID:-//Marian Lishman, Artist - ECPv6.15.20//NONSGML v1.0//EN
CALSCALE:GREGORIAN
METHOD:PUBLISH
X-WR-CALNAME:Marian Lishman, Artist
X-ORIGINAL-URL:https://marianlishman.com
X-WR-CALDESC:Events for Marian Lishman, Artist
REFRESH-INTERVAL;VALUE=DURATION:PT1H
X-Robots-Tag:noindex
X-PUBLISHED-TTL:PT1H
BEGIN:VTIMEZONE
TZID:UTC
BEGIN:STANDARD
TZOFFSETFROM:+0000
TZOFFSETTO:+0000
TZNAME:UTC
DTSTART:20210101T000000
END:STANDARD
END:VTIMEZONE
BEGIN:VEVENT
DTSTART;TZID=UTC:20220902T110000
DTEND;TZID=UTC:20220925T160000
DTSTAMP:20260425T224534
CREATED:20220827T105626Z
LAST-MODIFIED:20220827T105626Z
UID:7645-1662116400-1664121600@marianlishman.com
SUMMARY:Suffolk Open Studios Autumn Exhibition 2022 - Ferini Gallery
DESCRIPTION:Come and see a variety of 2D and 3D art at Ferini Gallery in Pakefield from 2nd to 25th September. The gallery is open Fridays\, Saturdays and Sundays 11am until 4pm. \nI will have 2 paintings in the exhibition.
URL:https://marianlishman.com/event/suffolk-open-studios-autumn-exhibition-2022-ferini-gallery/
LOCATION:Ferini Art Gallery\, 27 - 29 All Saints' Rd\, Pakefield\, Lowestoft\, Suffolk\, NR33 0JL\, United Kingdom
CATEGORIES:Exhibition
ATTACH;FMTTYPE=:
END:VEVENT
END:VCALENDAR