BEGIN:VCALENDAR
VERSION:2.0
PRODID:-//Marian Lishman, Artist - ECPv6.15.20//NONSGML v1.0//EN
CALSCALE:GREGORIAN
METHOD:PUBLISH
X-ORIGINAL-URL:https://marianlishman.com
X-WR-CALDESC:Events for Marian Lishman, Artist
REFRESH-INTERVAL;VALUE=DURATION:PT1H
X-Robots-Tag:noindex
X-PUBLISHED-TTL:PT1H
BEGIN:VTIMEZONE
TZID:UTC
BEGIN:STANDARD
TZOFFSETFROM:+0000
TZOFFSETTO:+0000
TZNAME:UTC
DTSTART:20210101T000000
END:STANDARD
END:VTIMEZONE
BEGIN:VEVENT
DTSTART;TZID=UTC:20221012T100000
DTEND;TZID=UTC:20221018T170000
DTSTAMP:20260425T211920
CREATED:20220714T150037Z
LAST-MODIFIED:20220714T150037Z
UID:7616-1665568800-1666112400@marianlishman.com
SUMMARY:Three Degrees of Abstraction
DESCRIPTION:A joint exhibition with Alison Adcock and Jo Clavier. All three of us create abstract art so come and feast your eyes on a variety of art to suit all tastes! \n 
URL:https://marianlishman.com/event/three-degrees-of-abstraction/
LOCATION:Craft House Gallery\, 1B Thoroughfare\, Woodbridge\, Suffolk\, IP12 1AA\, United Kingdom
CATEGORIES:Exhibition
ATTACH;FMTTYPE=:
END:VEVENT
END:VCALENDAR