BEGIN:VCALENDAR
VERSION:2.0
PRODID:-//Marian Lishman, Artist - ECPv6.15.20//NONSGML v1.0//EN
CALSCALE:GREGORIAN
METHOD:PUBLISH
X-ORIGINAL-URL:https://marianlishman.com
X-WR-CALDESC:Events for Marian Lishman, Artist
REFRESH-INTERVAL;VALUE=DURATION:PT1H
X-Robots-Tag:noindex
X-PUBLISHED-TTL:PT1H
BEGIN:VTIMEZONE
TZID:UTC
BEGIN:STANDARD
TZOFFSETFROM:+0000
TZOFFSETTO:+0000
TZNAME:UTC
DTSTART:20220101T000000
END:STANDARD
END:VTIMEZONE
BEGIN:VEVENT
DTSTART;TZID=UTC:20230110T100000
DTEND;TZID=UTC:20230129T160000
DTSTAMP:20260425T163710
CREATED:20221226T154032Z
LAST-MODIFIED:20221226T154032Z
UID:7722-1673344800-1675008000@marianlishman.com
SUMMARY:Babylon Arts Winter Open 2023
DESCRIPTION:Winter Open 2023 – Small… but perfectly formed\nAll artworks are 40x40xcm or smaller and are priced at either £60\, £90\, £120 or £150.
URL:https://marianlishman.com/event/babylon-arts-winter-open-2023/
LOCATION:Babylon Arts\, Waterside\, Ely\, Cambridgeshire\, CB7 4AU\, United Kingdom
CATEGORIES:Exhibition
ATTACH;FMTTYPE=:
END:VEVENT
END:VCALENDAR