BEGIN:VCALENDAR
VERSION:2.0
PRODID:-//Marian Lishman, Artist - ECPv6.15.20//NONSGML v1.0//EN
CALSCALE:GREGORIAN
METHOD:PUBLISH
X-WR-CALNAME:Marian Lishman, Artist
X-ORIGINAL-URL:https://marianlishman.com
X-WR-CALDESC:Events for Marian Lishman, Artist
REFRESH-INTERVAL;VALUE=DURATION:PT1H
X-Robots-Tag:noindex
X-PUBLISHED-TTL:PT1H
BEGIN:VTIMEZONE
TZID:UTC
BEGIN:STANDARD
TZOFFSETFROM:+0000
TZOFFSETTO:+0000
TZNAME:UTC
DTSTART:20220101T000000
END:STANDARD
END:VTIMEZONE
BEGIN:VEVENT
DTSTART;VALUE=DATE:20230428
DTEND;VALUE=DATE:20230502
DTSTAMP:20260425T114524
CREATED:20230221T122723Z
LAST-MODIFIED:20230221T122723Z
UID:7780-1682640000-1682985599@marianlishman.com
SUMMARY:Lawshall Art Exhibition
DESCRIPTION:An exhibition of art from Suffolk artists to raise money for Lawshall Church.
URL:https://marianlishman.com/event/lawshall-art-exhibition/
LOCATION:All Saints’ Church\, Lawshall\, The Street\, Lawshall\, Suffolk\, IP29 4PA\, United Kingdom
CATEGORIES:Exhibition
ATTACH;FMTTYPE=:
END:VEVENT
END:VCALENDAR