BEGIN:VCALENDAR
VERSION:2.0
PRODID:-//Marian Lishman, Artist - ECPv6.15.20//NONSGML v1.0//EN
CALSCALE:GREGORIAN
METHOD:PUBLISH
X-WR-CALNAME:Marian Lishman, Artist
X-ORIGINAL-URL:https://marianlishman.com
X-WR-CALDESC:Events for Marian Lishman, Artist
REFRESH-INTERVAL;VALUE=DURATION:PT1H
X-Robots-Tag:noindex
X-PUBLISHED-TTL:PT1H
BEGIN:VTIMEZONE
TZID:UTC
BEGIN:STANDARD
TZOFFSETFROM:+0000
TZOFFSETTO:+0000
TZNAME:UTC
DTSTART:20220101T000000
END:STANDARD
END:VTIMEZONE
BEGIN:VEVENT
DTSTART;TZID=UTC:20230907T100000
DTEND;TZID=UTC:20230912T160000
DTSTAMP:20260422T181921
CREATED:20230712T135830Z
LAST-MODIFIED:20230712T135830Z
UID:7928-1694080800-1694534400@marianlishman.com
SUMMARY:Southwold Art Circle Annual Exhibition
DESCRIPTION:This is the first time I have taken part in this exhibition. Come and see a great selection of artwork from members.
URL:https://marianlishman.com/event/southwold-art-circle-annual-exhibition/
LOCATION:Suffolk
CATEGORIES:Exhibition
ATTACH;FMTTYPE=:
END:VEVENT
END:VCALENDAR