BEGIN:VCALENDAR
VERSION:2.0
PRODID:-//Marian Lishman, Artist - ECPv6.15.18//NONSGML v1.0//EN
CALSCALE:GREGORIAN
METHOD:PUBLISH
X-ORIGINAL-URL:https://marianlishman.com
X-WR-CALDESC:Events for Marian Lishman, Artist
REFRESH-INTERVAL;VALUE=DURATION:PT1H
X-Robots-Tag:noindex
X-PUBLISHED-TTL:PT1H
BEGIN:VTIMEZONE
TZID:UTC
BEGIN:STANDARD
TZOFFSETFROM:+0000
TZOFFSETTO:+0000
TZNAME:UTC
DTSTART:20230101T000000
END:STANDARD
END:VTIMEZONE
BEGIN:VEVENT
DTSTART;TZID=UTC:20240419T100000
DTEND;TZID=UTC:20240501T160000
DTSTAMP:20260420T094942
CREATED:20240407T134813Z
LAST-MODIFIED:20240407T134813Z
UID:8280-1713520800-1714579200@marianlishman.com
SUMMARY:Suffolk Open Studios Spring Exhibition
DESCRIPTION:I will have a new painting in this exhibition which will have work from over 60 artists.
URL:https://marianlishman.com/event/suffolk-open-studios-spring-exhibition/
LOCATION:Pond Gallery\, Snape Maltings\, Snape\, Suffolk\, IP17 1SP\, United Kingdom
CATEGORIES:Exhibition,Large Organised Exhibition
ATTACH;FMTTYPE=image/jpeg:https://marianlishman.com/wp-content/uploads/2024/04/Pond-Spring-Exhibition-2024-Social-Media-Flyer-1.jpg
END:VEVENT
END:VCALENDAR