BEGIN:VCALENDAR
VERSION:2.0
PRODID:-//Marian Lishman, Artist - ECPv6.15.18//NONSGML v1.0//EN
CALSCALE:GREGORIAN
METHOD:PUBLISH
X-WR-CALNAME:Marian Lishman, Artist
X-ORIGINAL-URL:https://marianlishman.com
X-WR-CALDESC:Events for Marian Lishman, Artist
REFRESH-INTERVAL;VALUE=DURATION:PT1H
X-Robots-Tag:noindex
X-PUBLISHED-TTL:PT1H
BEGIN:VTIMEZONE
TZID:UTC
BEGIN:STANDARD
TZOFFSETFROM:+0000
TZOFFSETTO:+0000
TZNAME:UTC
DTSTART:20230101T000000
END:STANDARD
END:VTIMEZONE
BEGIN:VEVENT
DTSTART;VALUE=DATE:20241025
DTEND;VALUE=DATE:20241107
DTSTAMP:20260419T210241
CREATED:20241103T143846Z
LAST-MODIFIED:20241103T143846Z
UID:8584-1729814400-1730937599@marianlishman.com
SUMMARY:Ipswich Art Society Small Works
DESCRIPTION:I will have 2 small works in this exhibition in Woodbridge.
URL:https://marianlishman.com/event/ipswich-art-society-small-works/
LOCATION:Artspace\, 64 The Thoroughfare\, Woodbridge\, Suffolk\, IP12 1AL\, United Kingdom
CATEGORIES:Exhibition,Large Organised Exhibition
ATTACH;FMTTYPE=image/webp:https://marianlishman.com/wp-content/uploads/2024/11/small-works.webp
END:VEVENT
END:VCALENDAR