BEGIN:VCALENDAR
VERSION:2.0
PRODID:-//Marian Lishman, Artist - ECPv6.15.18//NONSGML v1.0//EN
CALSCALE:GREGORIAN
METHOD:PUBLISH
X-ORIGINAL-URL:https://marianlishman.com
X-WR-CALDESC:Events for Marian Lishman, Artist
REFRESH-INTERVAL;VALUE=DURATION:PT1H
X-Robots-Tag:noindex
X-PUBLISHED-TTL:PT1H
BEGIN:VTIMEZONE
TZID:UTC
BEGIN:STANDARD
TZOFFSETFROM:+0000
TZOFFSETTO:+0000
TZNAME:UTC
DTSTART:20230101T000000
END:STANDARD
END:VTIMEZONE
BEGIN:VEVENT
DTSTART;VALUE=DATE:20241122
DTEND;VALUE=DATE:20241125
DTSTAMP:20260419T211104
CREATED:20241103T144345Z
LAST-MODIFIED:20241103T144345Z
UID:8588-1732233600-1732492799@marianlishman.com
SUMMARY:13th Ipswich Sea Scouts Exhibition
DESCRIPTION:The annual exhibition of the 13th Ipswich Sea Scouts held in Ipswich each year.
URL:https://marianlishman.com/event/13th-ipswich-sea-scouts-exhibition/
LOCATION:13th Ipswich Sea Scout HQ\, The Drift\, Rushmere Road\, Ipswich\, IP4 4JX\, United Kingdom
CATEGORIES:Exhibition,Large Organised Exhibition
ATTACH;FMTTYPE=image/jpeg:https://marianlishman.com/wp-content/uploads/2024/11/2024-Art-Show-Poster-A3_v2A_1200px.jpg
END:VEVENT
END:VCALENDAR