BEGIN:VCALENDAR
VERSION:2.0
PRODID:-//Marian Lishman, Artist - ECPv6.15.18//NONSGML v1.0//EN
CALSCALE:GREGORIAN
METHOD:PUBLISH
X-WR-CALNAME:Marian Lishman, Artist
X-ORIGINAL-URL:https://marianlishman.com
X-WR-CALDESC:Events for Marian Lishman, Artist
REFRESH-INTERVAL;VALUE=DURATION:PT1H
X-Robots-Tag:noindex
X-PUBLISHED-TTL:PT1H
BEGIN:VTIMEZONE
TZID:UTC
BEGIN:STANDARD
TZOFFSETFROM:+0000
TZOFFSETTO:+0000
TZNAME:UTC
DTSTART:20170101T000000
END:STANDARD
END:VTIMEZONE
BEGIN:VEVENT
DTSTART;TZID=UTC:20181020T110000
DTEND;TZID=UTC:20181021T170000
DTSTAMP:20260419T160007
CREATED:20180827T100631Z
LAST-MODIFIED:20180827T100631Z
UID:767-1540033200-1540141200@marianlishman.com
SUMMARY:Parallax Art Fair
DESCRIPTION:Europe’s largest Independent art and design fair at Chelsea Town Hall\, London. \n11am until 5pm Saturday and Sunday\, 20th and 21st October.
URL:https://marianlishman.com/event/parallax-art-fair/
LOCATION:Chelsea Town Hall\, King's Road\, London\, London\, SW3 5EE\, United Kingdom
CATEGORIES:Art Fair
ATTACH;FMTTYPE=:
END:VEVENT
END:VCALENDAR