BEGIN:VCALENDAR
VERSION:2.0
PRODID:-//Marian Lishman, Artist - ECPv6.15.20//NONSGML v1.0//EN
CALSCALE:GREGORIAN
METHOD:PUBLISH
X-WR-CALNAME:Marian Lishman, Artist
X-ORIGINAL-URL:https://marianlishman.com
X-WR-CALDESC:Events for Marian Lishman, Artist
REFRESH-INTERVAL;VALUE=DURATION:PT1H
X-Robots-Tag:noindex
X-PUBLISHED-TTL:PT1H
BEGIN:VTIMEZONE
TZID:UTC
BEGIN:STANDARD
TZOFFSETFROM:+0000
TZOFFSETTO:+0000
TZNAME:UTC
DTSTART:20190101T000000
END:STANDARD
END:VTIMEZONE
BEGIN:VEVENT
DTSTART;TZID=UTC:20200410T100000
DTEND;TZID=UTC:20200413T170000
DTSTAMP:20260423T185434
CREATED:20200104T174015Z
LAST-MODIFIED:20200104T174015Z
UID:3687-1586512800-1586797200@marianlishman.com
SUMMARY:Needham Market 46th Art Exhibition and Sale - CANCELLED
DESCRIPTION:Preview evening Thursday 9th April 8.00 p.m. Start\nTickets £8.00 Each. Inc. Cheese & Wine \nFriday 10 th April 10.00 – 5.00\nSaturday 11 th April 10.00 – 5.00\nSunday 12th April 10.00 – 5.00\nMonday 13th April 10.00 – 5.00
URL:https://marianlishman.com/event/needham-market-46th-art-exhibition-and-sale/
LOCATION:Suffolk
CATEGORIES:Art Show,Exhibition
ATTACH;FMTTYPE=:
END:VEVENT
END:VCALENDAR