BEGIN:VCALENDAR
VERSION:2.0
PRODID:-//Marian Lishman, Artist - ECPv6.15.20//NONSGML v1.0//EN
CALSCALE:GREGORIAN
METHOD:PUBLISH
X-WR-CALNAME:Marian Lishman, Artist
X-ORIGINAL-URL:https://marianlishman.com
X-WR-CALDESC:Events for Marian Lishman, Artist
REFRESH-INTERVAL;VALUE=DURATION:PT1H
X-Robots-Tag:noindex
X-PUBLISHED-TTL:PT1H
BEGIN:VTIMEZONE
TZID:UTC
BEGIN:STANDARD
TZOFFSETFROM:+0000
TZOFFSETTO:+0000
TZNAME:UTC
DTSTART:20180101T000000
END:STANDARD
END:VTIMEZONE
BEGIN:VEVENT
DTSTART;TZID=UTC:20190518T080000
DTEND;TZID=UTC:20190518T170000
DTSTAMP:20260424T111121
CREATED:20190429T130142Z
LAST-MODIFIED:20190429T130142Z
UID:1010-1558166400-1558198800@marianlishman.com
SUMMARY:Hadleigh Show
DESCRIPTION:I will have a couple of paintings in the art exhibition at Hadleigh Show which is on the Saturday 18th May 2019
URL:https://marianlishman.com/event/hadleigh-show/
LOCATION:Hadleigh Show\, Hadleigh\, Suffolk\, IP7 5PE\, United Kingdom
CATEGORIES:Exhibition
ATTACH;FMTTYPE=:
END:VEVENT
END:VCALENDAR