BEGIN:VCALENDAR
VERSION:2.0
PRODID:-//Marian Lishman, Artist - ECPv6.15.20//NONSGML v1.0//EN
CALSCALE:GREGORIAN
METHOD:PUBLISH
X-ORIGINAL-URL:https://marianlishman.com
X-WR-CALDESC:Events for Marian Lishman, Artist
REFRESH-INTERVAL;VALUE=DURATION:PT1H
X-Robots-Tag:noindex
X-PUBLISHED-TTL:PT1H
BEGIN:VTIMEZONE
TZID:UTC
BEGIN:STANDARD
TZOFFSETFROM:+0000
TZOFFSETTO:+0000
TZNAME:UTC
DTSTART:20180101T000000
END:STANDARD
END:VTIMEZONE
BEGIN:VEVENT
DTSTART;TZID=UTC:20190525T100000
DTEND;TZID=UTC:20190630T170000
DTSTAMP:20260424T094839
CREATED:20190517T120459Z
LAST-MODIFIED:20190517T120459Z
UID:1048-1558778400-1561914000@marianlishman.com
SUMMARY:IAS - 142nd Annual Open Exhibition
DESCRIPTION:Saturday 25 May – Sunday 30 June \nIpswich Art Gallery\, 1 Upper High Street\, Ipswich  \nAn Open Exhibition of 275 paintings\, prints\, drawings and sculptures by Members\, Friends and the general public.  \nThe special feature this year is a retrospective of Ken Cuthbert who is well known as a past President of the Society\, pupil of Cor Visser and teacher to many of the Art Society members. \n(I have one painting in the exhibition – “Ocean Swirl”\, 30 x 30cm\, acrylic on resin)
URL:https://marianlishman.com/event/ias-142nd-annual-open-exhibition/
LOCATION:Ipswich Art Gallery\, 1 Upper High Street\, Ipswich\, Suffolk\, IP1 3NE\, United Kingdom
CATEGORIES:Exhibition
ATTACH;FMTTYPE=:
END:VEVENT
BEGIN:VEVENT
DTSTART;VALUE=DATE:20190529
DTEND;VALUE=DATE:20190531
DTSTAMP:20260424T094839
CREATED:20190309T164532Z
LAST-MODIFIED:20190309T164532Z
UID:970-1559088000-1559260799@marianlishman.com
SUMMARY:Suffolk Show Art Exhibition
DESCRIPTION:Once again there will be an art exhibition in a large tent at the Suffolk Show. The show is open for 2 days in half term week on the 29th and 30th May.
URL:https://marianlishman.com/event/suffolk-show-art-exhibition/
LOCATION:Trinity Park\, Felixstowe Road\, Ipswich\,  IP3 8UH\, United Kingdom
CATEGORIES:Exhibition
ATTACH;FMTTYPE=:
END:VEVENT
END:VCALENDAR