BEGIN:VCALENDAR
VERSION:2.0
PRODID:-//Marian Lishman, Artist - ECPv6.15.20//NONSGML v1.0//EN
CALSCALE:GREGORIAN
METHOD:PUBLISH
X-WR-CALNAME:Marian Lishman, Artist
X-ORIGINAL-URL:https://marianlishman.com
X-WR-CALDESC:Events for Marian Lishman, Artist
REFRESH-INTERVAL;VALUE=DURATION:PT1H
X-Robots-Tag:noindex
X-PUBLISHED-TTL:PT1H
BEGIN:VTIMEZONE
TZID:UTC
BEGIN:STANDARD
TZOFFSETFROM:+0000
TZOFFSETTO:+0000
TZNAME:UTC
DTSTART:20180101T000000
END:STANDARD
END:VTIMEZONE
BEGIN:VEVENT
DTSTART;TZID=UTC:20190817T110000
DTEND;TZID=UTC:20190904T160000
DTSTAMP:20260424T070315
CREATED:20190812T180306Z
LAST-MODIFIED:20190812T180306Z
UID:1095-1566039600-1567612800@marianlishman.com
SUMMARY:Transference
DESCRIPTION:100 artists recycle an archive of dry transfer lettering as art in a wild and varied exhibition.
URL:https://marianlishman.com/event/transference/
LOCATION:Halesworth Gallery\, Steeple End\, Halesworth\, Suffolk\, IP19 8LL
CATEGORIES:Exhibition
ATTACH;FMTTYPE=:
END:VEVENT
END:VCALENDAR