BEGIN:VCALENDAR
VERSION:2.0
PRODID:-//Marian Lishman, Artist - ECPv6.15.20//NONSGML v1.0//EN
CALSCALE:GREGORIAN
METHOD:PUBLISH
X-WR-CALNAME:Marian Lishman, Artist
X-ORIGINAL-URL:https://marianlishman.com
X-WR-CALDESC:Events for Marian Lishman, Artist
REFRESH-INTERVAL;VALUE=DURATION:PT1H
X-Robots-Tag:noindex
X-PUBLISHED-TTL:PT1H
BEGIN:VTIMEZONE
TZID:UTC
BEGIN:STANDARD
TZOFFSETFROM:+0000
TZOFFSETTO:+0000
TZNAME:UTC
DTSTART:20180101T000000
END:STANDARD
END:VTIMEZONE
BEGIN:VEVENT
DTSTART;TZID=UTC:20191115T110000
DTEND;TZID=UTC:20200119T160000
DTSTAMP:20260423T235933
CREATED:20191101T205521Z
LAST-MODIFIED:20191101T205521Z
UID:1166-1573815600-1579449600@marianlishman.com
SUMMARY:Ferini Gallery Winter Exhibition
DESCRIPTION:Ferini Art Gallery are holding their 20th Annual Winter Exhibition in association with Suffolk Open Studios from 15th November to 19th January 2020 (extended). \nCome and see work by SOS and other artists at this lovely gallery in Pakefield\, near Lowestoft. \nOPENING HOURS \n11am- 4pm Friday\, Saturday\, Sunday
URL:https://marianlishman.com/event/ferini-gallery-winter-exhibition/
LOCATION:Ferini Art Gallery\, 27 - 29 All Saints' Rd\, Pakefield\, Lowestoft\, Suffolk\, NR33 0JL\, United Kingdom
CATEGORIES:Exhibition
ATTACH;FMTTYPE=:
END:VEVENT
END:VCALENDAR