BEGIN:VCALENDAR
VERSION:2.0
PRODID:-//Marian Lishman, Artist - ECPv6.15.20//NONSGML v1.0//EN
CALSCALE:GREGORIAN
METHOD:PUBLISH
X-ORIGINAL-URL:https://marianlishman.com
X-WR-CALDESC:Events for Marian Lishman, Artist
REFRESH-INTERVAL;VALUE=DURATION:PT1H
X-Robots-Tag:noindex
X-PUBLISHED-TTL:PT1H
BEGIN:VTIMEZONE
TZID:UTC
BEGIN:STANDARD
TZOFFSETFROM:+0000
TZOFFSETTO:+0000
TZNAME:UTC
DTSTART:20190101T000000
END:STANDARD
END:VTIMEZONE
BEGIN:VEVENT
DTSTART;TZID=UTC:20200526T100000
DTEND;TZID=UTC:20200629T170000
DTSTAMP:20260423T174151
CREATED:20200229T175004Z
LAST-MODIFIED:20200229T175004Z
UID:6167-1590487200-1593450000@marianlishman.com
SUMMARY:Suffolk Open Studios - Showcase Exhibition - CANCELLED
DESCRIPTION:Showcasing the work of a number of members of Suffolk Open Studios for 2020. \nIn the lovely gallery space at The Apex in Bury St Edmunds (upper floor)
URL:https://marianlishman.com/event/suffolk-open-studios-showcase-exhibition/
LOCATION:The Apex\, Charter Square\, Bury St Edmonds\, Suffolk\, IP33 3FD\, United Kingdom
CATEGORIES:Exhibition
ATTACH;FMTTYPE=:
END:VEVENT
BEGIN:VEVENT
DTSTART;TZID=UTC:20200619T103000
DTEND;TZID=UTC:20200621T160000
DTSTAMP:20260423T174151
CREATED:20200301T111048Z
LAST-MODIFIED:20200301T111048Z
UID:6206-1592562600-1592755200@marianlishman.com
SUMMARY:St Mary's Art Exhibition Debenham - CANCELLED
DESCRIPTION:The 2020 exhibition is open as follows: \n\nFriday 19th        10.30am – 8.00pm\nSaturday 20th  10.30am – 7.00pm\nSunday 21st     11.00am – 4.00pm\n\nWe will be staying open later on Friday evening when\, from 6.00 – 8.00pm\, there will be complementary drinks and nibbles available. \nPurchasers may pay by cash but we prefer card payments. No paintings may be removed before the end of the exhibition. \nPaintings will be taken down by stewards ready for collection between 6.30pm and 8.00pm on Sunday or from 10.00am to 12noon on Monday 24th June. \nRefreshments will be available\, each day\, between 11am and 4pm\, in Dove Cottage (next to the church)
URL:https://marianlishman.com/event/st-marys-art-exhibition-debenham-2/
LOCATION:St Mary Magdalene Church\, High Street\, Debenham\, Suffolk\, IP14 6QN\, United Kingdom
CATEGORIES:Art Show,Exhibition
ATTACH;FMTTYPE=:
END:VEVENT
END:VCALENDAR