BEGIN:VCALENDAR
VERSION:2.0
PRODID:-//Marian Lishman, Artist - ECPv6.15.20//NONSGML v1.0//EN
CALSCALE:GREGORIAN
METHOD:PUBLISH
X-WR-CALNAME:Marian Lishman, Artist
X-ORIGINAL-URL:https://marianlishman.com
X-WR-CALDESC:Events for Marian Lishman, Artist
REFRESH-INTERVAL;VALUE=DURATION:PT1H
X-Robots-Tag:noindex
X-PUBLISHED-TTL:PT1H
BEGIN:VTIMEZONE
TZID:UTC
BEGIN:STANDARD
TZOFFSETFROM:+0000
TZOFFSETTO:+0000
TZNAME:UTC
DTSTART:20190101T000000
END:STANDARD
END:VTIMEZONE
BEGIN:VEVENT
DTSTART;TZID=UTC:20200801T113000
DTEND;TZID=UTC:20200802T163000
DTSTAMP:20260423T144629
CREATED:20200704T171307Z
LAST-MODIFIED:20200704T171307Z
UID:7170-1596281400-1596385800@marianlishman.com
SUMMARY:Chelmsford Lockdown Art Exhibition
DESCRIPTION:An exhibition of art created during lockdown by amateur and professional artists. I will hopefully have 3 small pieces on display.
URL:https://marianlishman.com/event/chelmsford-lockdown-art-exhibition/
LOCATION:Beaulieu Community Centre\, 17 Centenary Way\, Chelmsford\, Essex\, CM1 6AU\, United Kingdom
CATEGORIES:Exhibition
ATTACH;FMTTYPE=:
END:VEVENT
END:VCALENDAR