BEGIN:VCALENDAR
VERSION:2.0
PRODID:-//Marian Lishman, Artist - ECPv6.15.20//NONSGML v1.0//EN
CALSCALE:GREGORIAN
METHOD:PUBLISH
X-ORIGINAL-URL:https://marianlishman.com
X-WR-CALDESC:Events for Marian Lishman, Artist
REFRESH-INTERVAL;VALUE=DURATION:PT1H
X-Robots-Tag:noindex
X-PUBLISHED-TTL:PT1H
BEGIN:VTIMEZONE
TZID:UTC
BEGIN:STANDARD
TZOFFSETFROM:+0000
TZOFFSETTO:+0000
TZNAME:UTC
DTSTART:20200101T000000
END:STANDARD
END:VTIMEZONE
BEGIN:VEVENT
DTSTART;VALUE=DATE:20210505
DTEND;VALUE=DATE:20220828
DTSTAMP:20260422T181411
CREATED:20210426T133509Z
LAST-MODIFIED:20210426T133509Z
UID:7347-1620172800-1661644799@marianlishman.com
SUMMARY:The Last Anchor
DESCRIPTION:I have some paintings on display at the Last Anchor in the Ipswich Waterfront. This is a lovely bar & restaurant overlooking the marina – opposite Isaacs on the Quay – you get to it via the road that leads to Haven Marina. \nThe paintings are available to buy and all have a QR code attached so that you can see more details and pay directly through this website. \n 
URL:https://marianlishman.com/event/the-last-anchor/
LOCATION:The Last Anchor\, Haven Marina\, New Cut East\, Ipswich\, Suffolk\, IP3 0EA\, United Kingdom
CATEGORIES:Exhibition,Residency
ATTACH;FMTTYPE=:
END:VEVENT
BEGIN:VEVENT
DTSTART;TZID=UTC:20210803T100000
DTEND;TZID=UTC:20210807T180000
DTSTAMP:20260422T181411
CREATED:20210504T085515Z
LAST-MODIFIED:20210504T085515Z
UID:7355-1627984800-1628359200@marianlishman.com
SUMMARY:Felixstowe Art Group Annual Exhibition 2021
DESCRIPTION:Felixstowe Art Group are holding their annual exhibition again this year after being cancelled in 2020. There will be a variety of artworks for sale plus some unframed work\, all at very reasonable prices. Come and have a browse if you are in Felixstowe. \nOpen Tuesday until Friday 10am until 6pm and Saturday 10am until 5pm.
URL:https://marianlishman.com/event/felixstowe-art-group-annual-exhibition-2021/
LOCATION:Trinity Methodist Church Hall\, 26 Hamilton Road\, Felixstowe\, Suffolk\, IP11 7AN\, United Kingdom
CATEGORIES:Exhibition
ATTACH;FMTTYPE=:
END:VEVENT
END:VCALENDAR