BEGIN:VCALENDAR
VERSION:2.0
PRODID:-//Marian Lishman, Artist - ECPv6.15.18//NONSGML v1.0//EN
CALSCALE:GREGORIAN
METHOD:PUBLISH
X-WR-CALNAME:Marian Lishman, Artist
X-ORIGINAL-URL:https://marianlishman.com
X-WR-CALDESC:Events for Marian Lishman, Artist
REFRESH-INTERVAL;VALUE=DURATION:PT1H
X-Robots-Tag:noindex
X-PUBLISHED-TTL:PT1H
BEGIN:VTIMEZONE
TZID:UTC
BEGIN:STANDARD
TZOFFSETFROM:+0000
TZOFFSETTO:+0000
TZNAME:UTC
DTSTART:20220101T000000
END:STANDARD
END:VTIMEZONE
BEGIN:VEVENT
DTSTART;VALUE=DATE:20230304
DTEND;VALUE=DATE:20230402
DTSTAMP:20260419T182426
CREATED:20230219T184026Z
LAST-MODIFIED:20230219T184026Z
UID:7777-1677888000-1680393599@marianlishman.com
SUMMARY:Navistitch Spring Exhibition
DESCRIPTION:I have had 2 pieces selected to be in the Navistitch Spring Exhibition in Manningtree. \nThe gallery is open 10am to 4pm Wednesday to Saturday. \nThere will be a preview evening on Friday 3rd March 5-8pm.
URL:https://marianlishman.com/event/navistitch-spring-exhibition/
LOCATION:Navistitch\, 28 High Street\, Manningtree\, Essex\, CO11 1AJ\, United Kingdom
CATEGORIES:Exhibition
ATTACH;FMTTYPE=:
END:VEVENT
END:VCALENDAR