BEGIN:VCALENDAR
VERSION:2.0
PRODID:-//Marian Lishman, Artist - ECPv6.15.18//NONSGML v1.0//EN
CALSCALE:GREGORIAN
METHOD:PUBLISH
X-ORIGINAL-URL:https://marianlishman.com
X-WR-CALDESC:Events for Marian Lishman, Artist
REFRESH-INTERVAL;VALUE=DURATION:PT1H
X-Robots-Tag:noindex
X-PUBLISHED-TTL:PT1H
BEGIN:VTIMEZONE
TZID:UTC
BEGIN:STANDARD
TZOFFSETFROM:+0000
TZOFFSETTO:+0000
TZNAME:UTC
DTSTART:20220101T000000
END:STANDARD
END:VTIMEZONE
BEGIN:VEVENT
DTSTART;TZID=UTC:20230406T100000
DTEND;TZID=UTC:20230411T170000
DTSTAMP:20260419T182431
CREATED:20230203T095609Z
LAST-MODIFIED:20230203T095609Z
UID:7760-1680775200-1681232400@marianlishman.com
SUMMARY:Suffolk Open Studios - Ballroom Arts\, Aldeburgh
DESCRIPTION:The members’ exhibition for Suffolk Open Studios – I will have at least one big painting on show at this fantastic venue!
URL:https://marianlishman.com/event/suffolk-open-studios-ballroom-arts-aldeburgh/
LOCATION:Ballroom Arts\, 152a High Street\, Aldeburgh\, Suffolk\, IP15 5AQ\, United Kingdom
CATEGORIES:Exhibition
ATTACH;FMTTYPE=:
END:VEVENT
END:VCALENDAR