BEGIN:VCALENDAR
VERSION:2.0
PRODID:-//Marian Lishman, Artist - ECPv6.15.20//NONSGML v1.0//EN
CALSCALE:GREGORIAN
METHOD:PUBLISH
X-WR-CALNAME:Marian Lishman, Artist
X-ORIGINAL-URL:https://marianlishman.com
X-WR-CALDESC:Events for Marian Lishman, Artist
REFRESH-INTERVAL;VALUE=DURATION:PT1H
X-Robots-Tag:noindex
X-PUBLISHED-TTL:PT1H
BEGIN:VTIMEZONE
TZID:UTC
BEGIN:STANDARD
TZOFFSETFROM:+0000
TZOFFSETTO:+0000
TZNAME:UTC
DTSTART:20200101T000000
END:STANDARD
END:VTIMEZONE
BEGIN:VEVENT
DTSTART;TZID=UTC:20210703T080000
DTEND;TZID=UTC:20210704T170000
DTSTAMP:20260421T171650
CREATED:20210628T154237Z
LAST-MODIFIED:20210628T154237Z
UID:7395-1625299200-1625418000@marianlishman.com
SUMMARY:Urban Art 2021 - Virtual
DESCRIPTION:I have taken part in Urban Art a few years in the past. It normally takes place in Josephine Avenue in Brixton and is a great coming together of all kinds of artists in an outdoor setting. \nThis year it is a virtual event and you can support it by visiting here. \nIf you see any of my work that you are interested in\, please message me for information or paintings will show up on this website.
URL:https://marianlishman.com/event/urban-art-2021-virtual/
LOCATION:Online
CATEGORIES:Online Exhibition
ATTACH;FMTTYPE=:
END:VEVENT
END:VCALENDAR