BEGIN:VCALENDAR
VERSION:2.0
PRODID:-//Marian Lishman, Artist - ECPv6.15.20//NONSGML v1.0//EN
CALSCALE:GREGORIAN
METHOD:PUBLISH
X-WR-CALNAME:Marian Lishman, Artist
X-ORIGINAL-URL:https://marianlishman.com
X-WR-CALDESC:Events for Marian Lishman, Artist
REFRESH-INTERVAL;VALUE=DURATION:PT1H
X-Robots-Tag:noindex
X-PUBLISHED-TTL:PT1H
BEGIN:VTIMEZONE
TZID:UTC
BEGIN:STANDARD
TZOFFSETFROM:+0000
TZOFFSETTO:+0000
TZNAME:UTC
DTSTART:20200101T000000
END:STANDARD
END:VTIMEZONE
BEGIN:VEVENT
DTSTART;TZID=UTC:20210626T110000
DTEND;TZID=UTC:20210627T170000
DTSTAMP:20260422T144906
CREATED:20210419T143955Z
LAST-MODIFIED:20210419T143955Z
UID:7320-1624705200-1624813200@marianlishman.com
SUMMARY:Open Studio
DESCRIPTION:I will be opening my studio and garden as part of Suffolk Open Studios for the last weekend in June. Weather permitting I will be making the most of the outside space with displays of artwork. I will also be doing demonstrations throughout the weekend. \nThere is also an Ipswich Trail running throughout June where you can visit many different artists in the Ipswich area. \nOpening times are 11am until 5pm on the Saturday and Sunday.
URL:https://marianlishman.com/event/open-studio-2/
LOCATION:My Studio\, 49 Cliff Lane\, Ipswich\, Suffolk\, IP3 0PD\, United Kingdom
CATEGORIES:Open Studio
ATTACH;FMTTYPE=:
END:VEVENT
END:VCALENDAR