BEGIN:VCALENDAR
VERSION:2.0
PRODID:-//Marian Lishman, Artist - ECPv6.15.20//NONSGML v1.0//EN
CALSCALE:GREGORIAN
METHOD:PUBLISH
X-ORIGINAL-URL:https://marianlishman.com
X-WR-CALDESC:Events for Marian Lishman, Artist
REFRESH-INTERVAL;VALUE=DURATION:PT1H
X-Robots-Tag:noindex
X-PUBLISHED-TTL:PT1H
BEGIN:VTIMEZONE
TZID:UTC
BEGIN:STANDARD
TZOFFSETFROM:+0000
TZOFFSETTO:+0000
TZNAME:UTC
DTSTART:20200101T000000
END:STANDARD
END:VTIMEZONE
BEGIN:VEVENT
DTSTART;VALUE=DATE:20210505
DTEND;VALUE=DATE:20220828
DTSTAMP:20260426T015446
CREATED:20210426T133509Z
LAST-MODIFIED:20210426T133509Z
UID:7347-1620172800-1661644799@marianlishman.com
SUMMARY:The Last Anchor
DESCRIPTION:I have some paintings on display at the Last Anchor in the Ipswich Waterfront. This is a lovely bar & restaurant overlooking the marina – opposite Isaacs on the Quay – you get to it via the road that leads to Haven Marina. \nThe paintings are available to buy and all have a QR code attached so that you can see more details and pay directly through this website. \n 
URL:https://marianlishman.com/event/the-last-anchor/
LOCATION:The Last Anchor\, Haven Marina\, New Cut East\, Ipswich\, Suffolk\, IP3 0EA\, United Kingdom
CATEGORIES:Exhibition,Residency
ATTACH;FMTTYPE=:
END:VEVENT
BEGIN:VEVENT
DTSTART;TZID=UTC:20220529T100000
DTEND;TZID=UTC:20220603T160000
DTSTAMP:20260426T015446
CREATED:20220524T091046Z
LAST-MODIFIED:20220524T091046Z
UID:7596-1653818400-1654272000@marianlishman.com
SUMMARY:Cockfield Art Show 2022
DESCRIPTION:I will have one of my large new paintings up for sale at the Cockfield art show.
URL:https://marianlishman.com/event/cockfield-art-show-2022/
LOCATION:Cockfield Village Hall\, Cockfield\, Bury St Edmunds\, Suffolk\, IP30 0LA\, United Kingdom
CATEGORIES:Exhibition
ATTACH;FMTTYPE=:
END:VEVENT
BEGIN:VEVENT
DTSTART;VALUE=DATE:20220531
DTEND;VALUE=DATE:20220602
DTSTAMP:20260426T015446
CREATED:20220524T090605Z
LAST-MODIFIED:20220524T090605Z
UID:7591-1653955200-1654127999@marianlishman.com
SUMMARY:Suffolk Show - Art Tent
DESCRIPTION:I will have some paintings in the art tent at the Suffolk Show again this year.
URL:https://marianlishman.com/event/suffolk-show-art-tent/
LOCATION:Trinity Park\, Felixstowe Road\, Ipswich\,  IP3 8UH\, United Kingdom
CATEGORIES:Exhibition
ATTACH;FMTTYPE=:
END:VEVENT
BEGIN:VEVENT
DTSTART;VALUE=DATE:20220617
DTEND;VALUE=DATE:20220620
DTSTAMP:20260426T015446
CREATED:20220524T091528Z
LAST-MODIFIED:20220524T091528Z
UID:7599-1655424000-1655683199@marianlishman.com
SUMMARY:St Mary's Debenham Art Exhibition 2022
DESCRIPTION:This great exhibition returns again for 2022. I will have a few paintings for sale here.
URL:https://marianlishman.com/event/st-marys-debenham-art-exhibition-2022/
LOCATION:St Mary Magdalene Church\, High Street\, Debenham\, Suffolk\, IP14 6QN\, United Kingdom
CATEGORIES:Exhibition
ATTACH;FMTTYPE=:
END:VEVENT
BEGIN:VEVENT
DTSTART;TZID=UTC:20220618T110000
DTEND;TZID=UTC:20220619T170000
DTSTAMP:20260426T015446
CREATED:20220524T092009Z
LAST-MODIFIED:20220524T092009Z
UID:7601-1655550000-1655658000@marianlishman.com
SUMMARY:Suffolk Open Studios 2022 - Weekend 3
DESCRIPTION:I will be opening my studio up again this year for visitors from 11am until 5pm on Saturday and Sunday. I hope to have a new shed with sale items and a big gazebo so that I can spread out a bit more! You can pick up a directory at shops and cafes around Ipswich (or from outside my house) or you can order one online here.
URL:https://marianlishman.com/event/suffolk-open-studios-2022-weekend-3/
LOCATION:My Studio\, 49 Cliff Lane\, Ipswich\, Suffolk\, IP3 0PD\, United Kingdom
CATEGORIES:Open Studio
ATTACH;FMTTYPE=:
END:VEVENT
BEGIN:VEVENT
DTSTART;TZID=UTC:20220625T110000
DTEND;TZID=UTC:20220626T170000
DTSTAMP:20260426T015446
CREATED:20220524T092145Z
LAST-MODIFIED:20220524T092145Z
UID:7603-1656154800-1656262800@marianlishman.com
SUMMARY:Suffolk Open Studios 2022 - Weekend 4
DESCRIPTION:I will be opening my studio up again this year for visitors from 11am until 5pm on Saturday and Sunday. I hope to have a new shed with sale items and a big gazebo so that I can spread out a bit more! You can pick up a directory at shops and cafes around Ipswich (or from outside my house) or you can order one online here.
URL:https://marianlishman.com/event/suffolk-open-studios-2022-weekend-4/
LOCATION:My Studio\, 49 Cliff Lane\, Ipswich\, Suffolk\, IP3 0PD\, United Kingdom
CATEGORIES:Open Studio
ATTACH;FMTTYPE=:
END:VEVENT
END:VCALENDAR