BEGIN:VCALENDAR
VERSION:2.0
PRODID:-//Marian Lishman, Artist - ECPv6.15.20//NONSGML v1.0//EN
CALSCALE:GREGORIAN
METHOD:PUBLISH
X-WR-CALNAME:Marian Lishman, Artist
X-ORIGINAL-URL:https://marianlishman.com
X-WR-CALDESC:Events for Marian Lishman, Artist
REFRESH-INTERVAL;VALUE=DURATION:PT1H
X-Robots-Tag:noindex
X-PUBLISHED-TTL:PT1H
BEGIN:VTIMEZONE
TZID:UTC
BEGIN:STANDARD
TZOFFSETFROM:+0000
TZOFFSETTO:+0000
TZNAME:UTC
DTSTART:20220101T000000
END:STANDARD
END:VTIMEZONE
BEGIN:VEVENT
DTSTART;VALUE=DATE:20230428
DTEND;VALUE=DATE:20230502
DTSTAMP:20260423T032538
CREATED:20230221T122723Z
LAST-MODIFIED:20230221T122723Z
UID:7780-1682640000-1682985599@marianlishman.com
SUMMARY:Lawshall Art Exhibition
DESCRIPTION:An exhibition of art from Suffolk artists to raise money for Lawshall Church.
URL:https://marianlishman.com/event/lawshall-art-exhibition/
LOCATION:All Saints’ Church\, Lawshall\, The Street\, Lawshall\, Suffolk\, IP29 4PA\, United Kingdom
CATEGORIES:Exhibition
ATTACH;FMTTYPE=:
END:VEVENT
BEGIN:VEVENT
DTSTART;VALUE=DATE:20230504
DTEND;VALUE=DATE:20230511
DTSTAMP:20260423T032538
CREATED:20230203T095935Z
LAST-MODIFIED:20230203T095935Z
UID:7763-1683158400-1683763199@marianlishman.com
SUMMARY:Perspectives at the Pond Gallery
DESCRIPTION:An exhibition of 5 artists bring mixed media\, abstract art\, prints and metalwork sculptures to the Pond Gallery in Snape. \nWe will be in the gallery from 10am until 4pm (and possibly later) each day. \nThe artists are: \nJo Clavier \nMiranda Grayling \nSpadge Hopkins \nMarian Lishman \nNicola Warner \nWe will also be having a late opening with refreshments on Thursday 4th May from 5pm to 7pm\, all welcome. \n 
URL:https://marianlishman.com/event/pond-gallery/
LOCATION:Pond Gallery\, Snape Maltings\, Snape\, Suffolk\, IP17 1SP\, United Kingdom
CATEGORIES:Exhibition
ATTACH;FMTTYPE=:
END:VEVENT
BEGIN:VEVENT
DTSTART;TZID=UTC:20230520T080000
DTEND;TZID=UTC:20230520T170000
DTSTAMP:20260423T032538
CREATED:20230515T100048Z
LAST-MODIFIED:20230515T100048Z
UID:7878-1684569600-1684602000@marianlishman.com
SUMMARY:Hadleigh Show 2023
DESCRIPTION:I will have 2 paintings in the art tent again this year during the show. \nEntry to the show is by pre-booked tickets only.
URL:https://marianlishman.com/event/hadleigh-show-2023/
LOCATION:Hadleigh Show\, Hadleigh\, Suffolk\, IP7 5PE\, United Kingdom
CATEGORIES:Art Show
ATTACH;FMTTYPE=:
END:VEVENT
BEGIN:VEVENT
DTSTART;VALUE=DATE:20230531
DTEND;VALUE=DATE:20230602
DTSTAMP:20260423T032538
CREATED:20230515T100443Z
LAST-MODIFIED:20230515T100443Z
UID:7880-1685491200-1685663999@marianlishman.com
SUMMARY:Suffolk Show 2023
DESCRIPTION:I have entered 3 paintings for this year’s show – if there is enough room they will all be shown in the art tent.
URL:https://marianlishman.com/event/suffolk-show-2023/
LOCATION:Trinity Park\, Felixstowe Road\, Ipswich\,  IP3 8UH\, United Kingdom
CATEGORIES:Art Show
ATTACH;FMTTYPE=:
END:VEVENT
END:VCALENDAR