BEGIN:VCALENDAR
VERSION:2.0
PRODID:-//Marian Lishman, Artist - ECPv6.15.20//NONSGML v1.0//EN
CALSCALE:GREGORIAN
METHOD:PUBLISH
X-WR-CALNAME:Marian Lishman, Artist
X-ORIGINAL-URL:https://marianlishman.com
X-WR-CALDESC:Events for Marian Lishman, Artist
REFRESH-INTERVAL;VALUE=DURATION:PT1H
X-Robots-Tag:noindex
X-PUBLISHED-TTL:PT1H
BEGIN:VTIMEZONE
TZID:UTC
BEGIN:STANDARD
TZOFFSETFROM:+0000
TZOFFSETTO:+0000
TZNAME:UTC
DTSTART:20220101T000000
END:STANDARD
END:VTIMEZONE
BEGIN:VEVENT
DTSTART;VALUE=DATE:20230531
DTEND;VALUE=DATE:20230602
DTSTAMP:20260422T234612
CREATED:20230515T100443Z
LAST-MODIFIED:20230515T100443Z
UID:7880-1685491200-1685663999@marianlishman.com
SUMMARY:Suffolk Show 2023
DESCRIPTION:I have entered 3 paintings for this year’s show – if there is enough room they will all be shown in the art tent.
URL:https://marianlishman.com/event/suffolk-show-2023/
LOCATION:Trinity Park\, Felixstowe Road\, Ipswich\,  IP3 8UH\, United Kingdom
CATEGORIES:Art Show
ATTACH;FMTTYPE=:
END:VEVENT
BEGIN:VEVENT
DTSTART;VALUE=DATE:20230603
DTEND;VALUE=DATE:20230604
DTSTAMP:20260422T234612
CREATED:20230105T160300Z
LAST-MODIFIED:20230105T160300Z
UID:7741-1685750400-1685836799@marianlishman.com
SUMMARY:Art at the Beach
DESCRIPTION:Art at the Beach returns to beach street in Felixstowe. With a great array of art and things to do\, as well as the other food and attractions at beach street\, it’s a great day out.
URL:https://marianlishman.com/event/art-at-the-beach-2/
LOCATION:Beach Street\, Felixstowe\, Micklegate Road\, Felixstowe\, Suffolk\, IP11 2GN\, United Kingdom
CATEGORIES:Outdoor Art Fair
ATTACH;FMTTYPE=:
END:VEVENT
BEGIN:VEVENT
DTSTART;VALUE=DATE:20230624
DTEND;VALUE=DATE:20230723
DTSTAMP:20260422T234612
CREATED:20230607T084720Z
LAST-MODIFIED:20230607T084720Z
UID:8207-1687564800-1690070399@marianlishman.com
SUMMARY:Holton Lodge Barn Exhibition
DESCRIPTION:Hilary Garner has opened a new exhibition venue at Holton Lodge Barn and I am taking part in the inaugural exhibition which is running in conjunction with Suffolk Open Studios. The following artists are taking part: \nTony Allen \nRosalind Bieber \nDiana Capstick \nBoo Compton \nMark Croxford \nSusan Debnam \nCraig Frost \nHilary Garner \nTracy Harper \nBill Jackson \nMartin Laurance \nMarian Lishman \nRuth McCabe \nNaomi Munuo \nClaire Oxley \nLucy Perry \nTessa Phillips \nNorma Read \nKate Roocroft \nKevin Southgate \nLaina West \nLoraine Wilson
URL:https://marianlishman.com/event/holton-lodge-barn-exhibition/
LOCATION:Suffolk
CATEGORIES:Exhibition
ATTACH;FMTTYPE=:
END:VEVENT
BEGIN:VEVENT
DTSTART;TZID=UTC:20230624T100000
DTEND;TZID=UTC:20230625T170000
DTSTAMP:20260422T234612
CREATED:20230205T115101Z
LAST-MODIFIED:20230205T115101Z
UID:7768-1687600800-1687712400@marianlishman.com
SUMMARY:Open Studio
DESCRIPTION:I will be opening my studio for one weekend as part of Suffolk Open Studios. Come and see work in progress as well as finished work.
URL:https://marianlishman.com/event/open-studio-3/
LOCATION:My Studio\, 49 Cliff Lane\, Ipswich\, Suffolk\, IP3 0PD\, United Kingdom
CATEGORIES:Open Studio
ATTACH;FMTTYPE=:
END:VEVENT
END:VCALENDAR